BEGIN:VCALENDAR
VERSION:2.0
PRODID:-//Planovac.eu//Event//SK
CALSCALE:GREGORIAN
BEGIN:VEVENT
UID:event-24@planovac.eu
DTSTAMP:20260422T085451Z
SUMMARY:Svadba Renka Patrik
DTSTART:20260523T150000Z
DTEND:20260523T060000Z
END:VEVENT
END:VCALENDAR
