BEGIN:VCALENDAR
VERSION:2.0
PRODID:-//Planovac.eu//Event//SK
CALSCALE:GREGORIAN
BEGIN:VEVENT
UID:event-50@planovac.eu
DTSTAMP:20260422T120634Z
SUMMARY:svadba piškotovci
DTSTART;VALUE=DATE:20270501
DTEND;VALUE=DATE:20270502
END:VEVENT
END:VCALENDAR
